{"text_format":"2","workbook":"xlsx","n_sheets":2,"sheets":["Sheet1","Sheet2"],"not_rendered":{"charts":0,"images":0,"macros":0,"external_links":1,"defined_names":0,"comments":0,"pivot_tables":0},"unopened":[],"bounds":{"document_bytes":16777216,"sheet_cells":100000,"run_cost":"one","rows_first":2000,"rows_last":500,"rows_between":2000,"halvings":0,"cell_chars":16384,"cell_head_chars":4096},"cells_cut":0,"cells_raw":0,"read":"whole","date_system":"1900"}

{"sheet":"Sheet1","index":0,"n_rows":41,"n_cols":9,"rows_kept":41,"cut":false,"hidden":false,"merged":[]}
[]
[null,"2015년 논문발표 현황",null,null,"2016년 논문발표 현황",null,null,"2017년 논문발표 현황"]
[null,"국내",92,null,"국내",151,null,"국내",{"$f":"SUM(I4:I27)","v":130}]
[null,"계측제어기술그룹(원자력)",1,null,"EPCM통합지원실",1,null,"원전기기안전센터",4]
[null,"계측제어설계그룹",7,null,"계측제어기술그룹(원자력)",9,null,"원자력기술그룹(원자력)",10]
[null,"기계기술그룹(원자력)",1,null,"계측제어설계그룹",12,null,"유체계통설계그룹",3]
[null,"기계배관기술그룹(플랜트)",2,null,"기계기술그룹(원자력)",8,null,"안전해석그룹",18]
[null,"기계설계그룹",15,null,"기계배관기술그룹(플랜트)",2,null,"계측제어설계그룹",5]
[null,"미래전력기술연구소",15,null,"기계설계그룹",15,null,"미래전력기술연구소",7]
[null,"배관기술그룹(원자력)",1,null,"미래전력기술연구소",11,null,"전기계측기술그룹(신사업)",3]
[null,"사업관리기술그룹(원자력)",2,null,"배관기술그룹(원자력)",6,null,"토목건축기술그룹(신사업)",3]
[null,"안전성평가기술그룹",4,null,"사업관리기술그룹(원자력)",10,null,"기계설계그룹",16]
[null,"안전해석그룹",10,null,"신재생환경기술그룹(플랜트)",1,null,"전기기술그룹(원자력)",5]
[null,"원자력기술그룹(원자력)",3,null,"안전성평가연구기술그룹",5,null,"계측제어기술그룹(원자력)",6]
[null,"유체계통설계그룹",7,null,"안전해석그룹",8,null,"배관기술그룹(원자력)",5]
[null,"재료기술그룹",12,null,"원자력기술그룹(원자력)",12,null,"기계기술그룹(원자력)",8]
[null,"전기기술그룹(원자력)",3,null,"원자로안전점검실",3,null,"사업관리기술그룹(원자력)",7]
[null,"토목건축기술그룹(원자력)",6,null,"원전기기안전센터",1,null,"안전성평가연구기술그룹",4]
[null,"특수기술그룹",3,null,"유체계통설계그룹",8,null,"원자로안전점검실",2]
[null,"해외",20,null,"재료연구기술그룹",16,null,"토목건축기술그룹(원자력)",6]
[null,"계측제어기술그룹(원자력)",1,null,"전기계측기술그룹(플랜트)",3,null,"재료연구기술그룹",8]
[null,"계측제어설계그룹",2,null,"전기기술그룹(원자력)",8,null,"원전해체사업실",4]
[null,"기계설계그룹",1,null,"토목건축기술그룹(원자력)",10,null,"기계배관기술그룹(신사업)",1]
[null,"미래전력기술연구소",2,null,"플랜트사업개발처",2,null,"원자력사업처",2]
[null,"배관기술그룹(원자력)",2,null,"해외",29,null,"신사업개발처",1]
[null,"안전해석그룹",2,null,"계측제어기술그룹(원자력)",1,null,"EPCM통합지원실(신사업)",1]
[null,"원자력기술그룹(원자력)",2,null,"계측제어설계그룹",3,null,"신재생환경기술그룹(신사업)",1]
[null,"유체계통설계그룹",2,null,"기계설계그룹",3,null,"해외",{"$f":"SUM(I29:I40)","v":33}]
[null,"재료기술그룹",4,null,"기획처",1,null,"원자력기술그룹(원자력)",2]
[null,"전기기술그룹(원자력)",1,null,"미래전력기술연구소",2,null,"유체계통설계그룹",2]
[null,"토목건축기술그룹(플랜트)",1,null,"배관기술그룹(원자력)",2,null,"안전해석그룹",7]
[null,"총합계",112,null,"안전성평가연구기술그룹",7,null,"계측제어설계그룹",7]
[{"$nulls":4},"안전해석그룹",2,null,"미래전력기술연구소",2]
[{"$nulls":4},"원자력기술그룹(원자력)",2,null,"전기계측기술그룹(신사업)",2]
[{"$nulls":4},"유체계통설계그룹",1,null,"기계설계그룹",4]
[{"$nulls":4},"재료연구기술그룹",2,null,"전기기술그룹(원자력)",1]
[{"$nulls":4},"전기계측기술그룹(플랜트)",1,null,"계측제어기술그룹(원자력)",1]
[{"$nulls":4},"토목건축기술그룹(원자력)",2,null,"배관기술그룹(원자력)",1]
[{"$nulls":4},"총합계",{"$f":"F3+F25","v":180},null,"안전성평가연구기술그룹",2]
[{"$nulls":7},"토목건축기술그룹(원자력)",2]
[{"$nulls":7},"총합계",{"$f":"I3+I28","v":163}]

{"sheet":"Sheet2","index":1,"n_rows":26,"n_cols":7,"rows_kept":26,"cut":false,"hidden":false,"merged":[]}
[null,null,"등록자부서","국내","해외","사내"]
[null,null,"원전기기안전센터",{"$f":"COUNTIF('[1]2017'!$R$2:$R$164,$C2&D$1)","v":1},{"$f":"COUNTIF('[1]2017'!$R$2:$R$164,$C2&E$1)","v":0},{"$f":"COUNTIF('[1]2017'!$R$2:$R$164,$C2&F$1)","v":3},{"$f":"D2+F2","v":4}]
[null,null,"원자력기술그룹(원자력)",{"$f":"COUNTIF('[1]2017'!$R$2:$R$164,$C3&D$1)","v":7},{"$f":"COUNTIF('[1]2017'!$R$2:$R$164,$C3&E$1)","v":2},{"$f":"COUNTIF('[1]2017'!$R$2:$R$164,$C3&F$1)","v":3},{"$f":"D3+F3","v":10}]
[null,null,"유체계통설계그룹",{"$f":"COUNTIF('[1]2017'!$R$2:$R$164,$C4&D$1)","v":1},{"$f":"COUNTIF('[1]2017'!$R$2:$R$164,$C4&E$1)","v":2},{"$f":"COUNTIF('[1]2017'!$R$2:$R$164,$C4&F$1)","v":2},3]
[null,null,"안전해석그룹",{"$f":"COUNTIF('[1]2017'!$R$2:$R$164,$C5&D$1)","v":11},{"$f":"COUNTIF('[1]2017'!$R$2:$R$164,$C5&E$1)","v":7},{"$f":"COUNTIF('[1]2017'!$R$2:$R$164,$C5&F$1)","v":7},18]
[null,null,"계측제어설계그룹",{"$f":"COUNTIF('[1]2017'!$R$2:$R$164,$C6&D$1)","v":4},{"$f":"COUNTIF('[1]2017'!$R$2:$R$164,$C6&E$1)","v":7},{"$f":"COUNTIF('[1]2017'!$R$2:$R$164,$C6&F$1)","v":1},5]
[null,null,"미래전력기술연구소",{"$f":"COUNTIF('[1]2017'!$R$2:$R$164,$C7&D$1)","v":4},{"$f":"COUNTIF('[1]2017'!$R$2:$R$164,$C7&E$1)","v":2},{"$f":"COUNTIF('[1]2017'!$R$2:$R$164,$C7&F$1)","v":3},7]
[null,null,"전기계측기술그룹(신사업)",{"$f":"COUNTIF('[1]2017'!$R$2:$R$164,$C8&D$1)","v":2},{"$f":"COUNTIF('[1]2017'!$R$2:$R$164,$C8&E$1)","v":2},{"$f":"COUNTIF('[1]2017'!$R$2:$R$164,$C8&F$1)","v":1},3]
[null,null,"토목건축기술그룹(신사업)",{"$f":"COUNTIF('[1]2017'!$R$2:$R$164,$C9&D$1)","v":0},{"$f":"COUNTIF('[1]2017'!$R$2:$R$164,$C9&E$1)","v":0},{"$f":"COUNTIF('[1]2017'!$R$2:$R$164,$C9&F$1)","v":3},3]
[null,null,"기계설계그룹",{"$f":"COUNTIF('[1]2017'!$R$2:$R$164,$C10&D$1)","v":15},{"$f":"COUNTIF('[1]2017'!$R$2:$R$164,$C10&E$1)","v":4},{"$f":"COUNTIF('[1]2017'!$R$2:$R$164,$C10&F$1)","v":1},16]
[null,null,"전기기술그룹(원자력)",{"$f":"COUNTIF('[1]2017'!$R$2:$R$164,$C11&D$1)","v":0},{"$f":"COUNTIF('[1]2017'!$R$2:$R$164,$C11&E$1)","v":1},{"$f":"COUNTIF('[1]2017'!$R$2:$R$164,$C11&F$1)","v":5},5]
[null,null,"계측제어기술그룹(원자력)",{"$f":"COUNTIF('[1]2017'!$R$2:$R$164,$C12&D$1)","v":2},{"$f":"COUNTIF('[1]2017'!$R$2:$R$164,$C12&E$1)","v":1},{"$f":"COUNTIF('[1]2017'!$R$2:$R$164,$C12&F$1)","v":4},6]
[null,null,"배관기술그룹(원자력)",{"$f":"COUNTIF('[1]2017'!$R$2:$R$164,$C13&D$1)","v":3},{"$f":"COUNTIF('[1]2017'!$R$2:$R$164,$C13&E$1)","v":1},{"$f":"COUNTIF('[1]2017'!$R$2:$R$164,$C13&F$1)","v":2},5]
[null,null,"기계기술그룹(원자력)",{"$f":"COUNTIF('[1]2017'!$R$2:$R$164,$C14&D$1)","v":1},{"$f":"COUNTIF('[1]2017'!$R$2:$R$164,$C14&E$1)","v":0},{"$f":"COUNTIF('[1]2017'!$R$2:$R$164,$C14&F$1)","v":7},8]
[null,null,"사업관리기술그룹(원자력)",{"$f":"COUNTIF('[1]2017'!$R$2:$R$164,$C15&D$1)","v":2},{"$f":"COUNTIF('[1]2017'!$R$2:$R$164,$C15&E$1)","v":0},{"$f":"COUNTIF('[1]2017'!$R$2:$R$164,$C15&F$1)","v":5},7]
[null,null,"안전성평가연구기술그룹",{"$f":"COUNTIF('[1]2017'!$R$2:$R$164,$C16&D$1)","v":2},{"$f":"COUNTIF('[1]2017'!$R$2:$R$164,$C16&E$1)","v":2},{"$f":"COUNTIF('[1]2017'!$R$2:$R$164,$C16&F$1)","v":2},4]
[null,null,"원자로안전점검실",{"$f":"COUNTIF('[1]2017'!$R$2:$R$164,$C17&D$1)","v":1},{"$f":"COUNTIF('[1]2017'!$R$2:$R$164,$C17&E$1)","v":0},{"$f":"COUNTIF('[1]2017'!$R$2:$R$164,$C17&F$1)","v":1},2]
[null,null,"토목건축기술그룹(원자력)",{"$f":"COUNTIF('[1]2017'!$R$2:$R$164,$C18&D$1)","v":2},{"$f":"COUNTIF('[1]2017'!$R$2:$R$164,$C18&E$1)","v":2},{"$f":"COUNTIF('[1]2017'!$R$2:$R$164,$C18&F$1)","v":4},6]
[null,null,"재료연구기술그룹",{"$f":"COUNTIF('[1]2017'!$R$2:$R$164,$C19&D$1)","v":8},{"$f":"COUNTIF('[1]2017'!$R$2:$R$164,$C19&E$1)","v":0},{"$f":"COUNTIF('[1]2017'!$R$2:$R$164,$C19&F$1)","v":0},8]
[null,null,"원전해체사업실",{"$f":"COUNTIF('[1]2017'!$R$2:$R$164,$C20&D$1)","v":3},{"$f":"COUNTIF('[1]2017'!$R$2:$R$164,$C20&E$1)","v":0},{"$f":"COUNTIF('[1]2017'!$R$2:$R$164,$C20&F$1)","v":1},4]
[null,null,"기계배관기술그룹(신사업)",{"$f":"COUNTIF('[1]2017'!$R$2:$R$164,$C21&D$1)","v":0},{"$f":"COUNTIF('[1]2017'!$R$2:$R$164,$C21&E$1)","v":0},{"$f":"COUNTIF('[1]2017'!$R$2:$R$164,$C21&F$1)","v":1},1]
[null,null,"원자력사업처",{"$f":"COUNTIF('[1]2017'!$R$2:$R$164,$C22&D$1)","v":2},{"$f":"COUNTIF('[1]2017'!$R$2:$R$164,$C22&E$1)","v":0},{"$f":"COUNTIF('[1]2017'!$R$2:$R$164,$C22&F$1)","v":0},2]
[null,null,"신사업개발처",{"$f":"COUNTIF('[1]2017'!$R$2:$R$164,$C23&D$1)","v":0},{"$f":"COUNTIF('[1]2017'!$R$2:$R$164,$C23&E$1)","v":0},{"$f":"COUNTIF('[1]2017'!$R$2:$R$164,$C23&F$1)","v":1},1]
[null,null,"EPCM통합지원실(신사업)",{"$f":"COUNTIF('[1]2017'!$R$2:$R$164,$C24&D$1)","v":0},{"$f":"COUNTIF('[1]2017'!$R$2:$R$164,$C24&E$1)","v":0},{"$f":"COUNTIF('[1]2017'!$R$2:$R$164,$C24&F$1)","v":1},1]
[null,null,"신재생환경기술그룹(신사업)",{"$f":"COUNTIF('[1]2017'!$R$2:$R$164,$C25&D$1)","v":0},{"$f":"COUNTIF('[1]2017'!$R$2:$R$164,$C25&E$1)","v":0},{"$f":"COUNTIF('[1]2017'!$R$2:$R$164,$C25&F$1)","v":1},1]
[null,null,null,{"$f":"SUM(D2:D25)","v":71},{"$f":"SUM(E2:E25)","v":33},59,{"$f":"SUM(D26:F26)","v":163}]